BEGIN:VCALENDAR
VERSION:2.0
PRODID:-//ROSA - ECPv6.15.20//NONSGML v1.0//EN
CALSCALE:GREGORIAN
METHOD:PUBLISH
X-WR-CALNAME:ROSA
X-ORIGINAL-URL:https://www.romancewriters.co.za
X-WR-CALDESC:Events for ROSA
REFRESH-INTERVAL;VALUE=DURATION:PT1H
X-Robots-Tag:noindex
X-PUBLISHED-TTL:PT1H
BEGIN:VTIMEZONE
TZID:Africa/Johannesburg
BEGIN:STANDARD
TZOFFSETFROM:+0200
TZOFFSETTO:+0200
TZNAME:SAST
DTSTART:20250101T000000
END:STANDARD
END:VTIMEZONE
BEGIN:VEVENT
DTSTART;TZID=Africa/Johannesburg:20260124T100000
DTEND;TZID=Africa/Johannesburg:20260124T110000
DTSTAMP:20260421T012802
CREATED:20260112T152131Z
LAST-MODIFIED:20260112T152131Z
UID:3207-1769248800-1769252400@www.romancewriters.co.za
SUMMARY:Visualiseer jou doelwitte met Francine Beaton
DESCRIPTION:Francine Beaton is ‘n gesoute skrywer en ‘n aktiewe ROSA (Romance Writers of South Africa) lid. Sy deel in hierdie aanlyn werkswinkel ‘n praktiese gids vir skrywers om doelwitte te stel\, produktief te bly en sterk te eindig.
URL:https://www.romancewriters.co.za/events/visualiseer-jou-doelwitte-met-francine-beaton/
LOCATION:ROSA Discord Chanel\, South Africa
ATTACH;FMTTYPE=image/png:https://www.romancewriters.co.za/wp-content/uploads/2026/01/ROSA-1s-Facebook-Post-1.png
ORGANIZER;CN="ROSA":MAILTO:website@romancewriters.co.za
END:VEVENT
END:VCALENDAR