BEGIN:VCALENDAR
VERSION:2.0
PRODID:-//ROSA - ECPv6.15.20//NONSGML v1.0//EN
CALSCALE:GREGORIAN
METHOD:PUBLISH
X-WR-CALNAME:ROSA
X-ORIGINAL-URL:https://www.romancewriters.co.za
X-WR-CALDESC:Events for ROSA
REFRESH-INTERVAL;VALUE=DURATION:PT1H
X-Robots-Tag:noindex
X-PUBLISHED-TTL:PT1H
BEGIN:VTIMEZONE
TZID:Africa/Johannesburg
BEGIN:STANDARD
TZOFFSETFROM:+0200
TZOFFSETTO:+0200
TZNAME:SAST
DTSTART:20220101T000000
END:STANDARD
END:VTIMEZONE
BEGIN:VEVENT
DTSTART;TZID=Africa/Johannesburg:20231216T100000
DTEND;TZID=Africa/Johannesburg:20231216T180000
DTSTAMP:20260422T040203
CREATED:20231201T150255Z
LAST-MODIFIED:20231214T103742Z
UID:1115-1702720800-1702749600@www.romancewriters.co.za
SUMMARY:Coffee Chat: Expectations\, Goals & Targets for 2024 - ROSA Members only
DESCRIPTION:Recap of the year that’s been and expectations\, goals & targets for the year ahead. How to keep it realistic. \nPlease note that this is a ROSA members only event which will take place via the link you receive when registering for the event.
URL:https://www.romancewriters.co.za/events/coffee-chat-expectations-goals-targets-for-2024-rosa-members-only/
LOCATION:Coffee Chat Discord Room
ATTACH;FMTTYPE=image/png:https://www.romancewriters.co.za/wp-content/uploads/2023/12/Dec-coffee.png
ORGANIZER;CN="ROSA":MAILTO:website@romancewriters.co.za
END:VEVENT
BEGIN:VEVENT
DTSTART;TZID=Africa/Johannesburg:20231210T100000
DTEND;TZID=Africa/Johannesburg:20231210T140000
DTSTAMP:20260422T040203
CREATED:20231201T145651Z
LAST-MODIFIED:20231213T152109Z
UID:1110-1702202400-1702216800@www.romancewriters.co.za
SUMMARY:A Merry Murder Mystery - Joburg Chapter
DESCRIPTION:Join us for day mystery and intrigue. We’ll spend the morning solving an “On The Case” murder mystery. \nWhile in the afternoon we’ll be having a workshop on police procedure and protocol hosted by a SAPS detective. \nA perfect way to end our year!
URL:https://www.romancewriters.co.za/events/a-merry-murder-mystery-joburg-chapter/
LOCATION:Pinehaven Self Storage\, Plot 10\, Steyn Road\, Steynsvlei\, Krugersdorp\, Gauteng\, 1747\, South Africa
ORGANIZER;CN="ROSA":MAILTO:website@romancewriters.co.za
END:VEVENT
BEGIN:VEVENT
DTSTART;TZID=Africa/Johannesburg:20231209T100000
DTEND;TZID=Africa/Johannesburg:20231209T160000
DTSTAMP:20260422T040203
CREATED:20231201T142523Z
LAST-MODIFIED:20231201T143437Z
UID:1095-1702116000-1702137600@www.romancewriters.co.za
SUMMARY:Cape Town Christmas Party
DESCRIPTION:CAPE TOWN IN-PERSON EVENT\n\nHello and happy weekend! ☺🌹\n\nCalling all Cape Town ROSAs\, and any national ROSAs visiting at the beginning of December\, we’ll be hosting our annual Christmas Party at the Auberge Hotel in the Gardens – also referred to as “the little Nellie”.\n\nYou are cordially invited to join us for a day of festivities\, good food\, laughter\, and wonderful company.\n\nWhen: Saturday\, 9 December 2023\, 10:00 – 16:00\nWhere: Auberge Hotel\, 10 Union Street\, Gardens\, Cape Town\nCost: R450\,00\nIncluded: Arrival tea/coffee\nMorning tea/coffee\nLunch\, 1 soft drink included\, all other drinks for own account\nAfternoon tea/coffee\nUse of conference room as our own private dining room\n\nPlease RSVP by no later than Monday\, 27 November.\n\nIn keeping with tradition\, we will be doing a Secret Santa\, and this year we’ll be doing a “blind date with a book”. For those attending\, please ensure that your books are with Nikki Malan by no later Friday\, 1 December. Your book can either be one you’ve written\, bought new\, or mint condition pre-loved – bought or owned.
URL:https://www.romancewriters.co.za/events/cape-town-christmas-party/
LOCATION:Auberge\, 10 Union Street\, Gardens\, Cape town\, Western Cape\, 8001\, South Africa
ORGANIZER;CN="ROSA":MAILTO:website@romancewriters.co.za
END:VEVENT
BEGIN:VEVENT
DTSTART;TZID=Africa/Johannesburg:20231202T100000
DTEND;TZID=Africa/Johannesburg:20231203T180000
DTSTAMP:20260422T040203
CREATED:20231201T144926Z
LAST-MODIFIED:20231201T145047Z
UID:1104-1701511200-1701626400@www.romancewriters.co.za
SUMMARY:Cape Town Christmas Market
DESCRIPTION:Looking for a book or two for the romance reader in your life? \nThen come join us at Exclusive Books Waterfront\, and meet local romance authors while you’re there. Some of South Africa’s top romance authors will be selling\, and signing\, their books over the weekend of 2 – 3 December 2023\, from 10:00 until 18:00 each day. \nParticipating Authors: Ashleigh Roberts • Denise Riddle • Dorothy Ewels • Marilize Roos • Nicole Ann Nielson
URL:https://www.romancewriters.co.za/events/cape-town-christmas-market/
LOCATION:Exclusive Books V&A Waterfront\, 6160\, Victoria Wharf\, 1 Breakwater Blvd\, Victoria & Alfred Waterfront\, Cape Town\, Western Cape\, 8001\, South Africa
ORGANIZER;CN="ROSA":MAILTO:website@romancewriters.co.za
END:VEVENT
END:VCALENDAR