BEGIN:VCALENDAR
VERSION:2.0
PRODID:-//ROSA - ECPv6.15.20//NONSGML v1.0//EN
CALSCALE:GREGORIAN
METHOD:PUBLISH
X-WR-CALNAME:ROSA
X-ORIGINAL-URL:https://www.romancewriters.co.za
X-WR-CALDESC:Events for ROSA
REFRESH-INTERVAL;VALUE=DURATION:PT1H
X-Robots-Tag:noindex
X-PUBLISHED-TTL:PT1H
BEGIN:VTIMEZONE
TZID:Africa/Johannesburg
BEGIN:STANDARD
TZOFFSETFROM:+0200
TZOFFSETTO:+0200
TZNAME:SAST
DTSTART:20230101T000000
END:STANDARD
END:VTIMEZONE
BEGIN:VEVENT
DTSTART;TZID=Africa/Johannesburg:20241228T100000
DTEND;TZID=Africa/Johannesburg:20241228T130000
DTSTAMP:20260421T064954
CREATED:20241116T080516Z
LAST-MODIFIED:20241116T080516Z
UID:2380-1735380000-1735390800@www.romancewriters.co.za
SUMMARY:Coffee Chat
DESCRIPTION:What’s up\, 2025!
URL:https://www.romancewriters.co.za/events/coffee-chat-2/
LOCATION:Coffee Chat Discord Room
CATEGORIES:Free Online Event
ORGANIZER;CN="ROSA":MAILTO:website@romancewriters.co.za
END:VEVENT
BEGIN:VEVENT
DTSTART;TZID=Africa/Johannesburg:20241216T120000
DTEND;TZID=Africa/Johannesburg:20241216T150000
DTSTAMP:20260421T064954
CREATED:20241204T075059Z
LAST-MODIFIED:20241214T112436Z
UID:2420-1734350400-1734361200@www.romancewriters.co.za
SUMMARY:ROSA JHB Chapter Year End Lunch
DESCRIPTION:
URL:https://www.romancewriters.co.za/events/rosa-jhb-chapter-year-end-lunch/
LOCATION:Très Jolie\, Plot 22\, Peter Road\, Ruimsig\, 1724\, South Africa
ORGANIZER;CN="ROSA":MAILTO:website@romancewriters.co.za
END:VEVENT
BEGIN:VEVENT
DTSTART;TZID=Africa/Johannesburg:20241216T110000
DTEND;TZID=Africa/Johannesburg:20241216T133000
DTSTAMP:20260421T064954
CREATED:20241203T081711Z
LAST-MODIFIED:20241203T082220Z
UID:2398-1734346800-1734355800@www.romancewriters.co.za
SUMMARY:Year End Function for the Pretoria Chapter Members
DESCRIPTION:This event is organsied by Francine Beaton who can be contacted on 0826737321 should you have any queries
URL:https://www.romancewriters.co.za/events/year-end-function-for-the-pretoria-chapter-members/
LOCATION:Lakeview Coffeeshop & Bistro Waterkloof Marina Estate\, Orion Avenue\, Waterkloof\, Pretoria\, Gauteng\, South Africa
ORGANIZER;CN="ROSA":MAILTO:website@romancewriters.co.za
END:VEVENT
BEGIN:VEVENT
DTSTART;TZID=Africa/Johannesburg:20241207T110000
DTEND;TZID=Africa/Johannesburg:20241207T150000
DTSTAMP:20260421T064954
CREATED:20241112T130306Z
LAST-MODIFIED:20241203T084050Z
UID:2350-1733569200-1733583600@www.romancewriters.co.za
SUMMARY:ROSA Cape Town Christmas Get Together
DESCRIPTION:
URL:https://www.romancewriters.co.za/events/rosa-cape-town-christmas-get-together/
LOCATION:Bossa Burgundy\, Viridian Street\, Burgundy Estate\, Cape Town\, Western Cape\, 7441\, South Africa
ORGANIZER;CN="ROSA":MAILTO:website@romancewriters.co.za
END:VEVENT
BEGIN:VEVENT
DTSTART;TZID=Africa/Johannesburg:20241120T100000
DTEND;TZID=Africa/Johannesburg:20241120T130000
DTSTAMP:20260421T064954
CREATED:20241116T080319Z
LAST-MODIFIED:20241116T092553Z
UID:2378-1732096800-1732107600@www.romancewriters.co.za
SUMMARY:WIPit\, Wednesday
DESCRIPTION:Bring along your WIP’s and we can brainstorm. Alternatively\, we’ll be discussing the importance of reading in and adjacent to your genre.
URL:https://www.romancewriters.co.za/events/wip-it-wednesday/
LOCATION:Exclusive Books – Rosebank\, Shop 307-311\, Level 3\, Rosebank Mall\, Rosebank\, Gauteng\, 2196\, South Africa
CATEGORIES:Free Get Together
ATTACH;FMTTYPE=image/jpeg:https://www.romancewriters.co.za/wp-content/uploads/2024/11/WhatsApp-Image-2024-11-15-at-14.49.51.jpeg
ORGANIZER;CN="ROSA":MAILTO:website@romancewriters.co.za
END:VEVENT
BEGIN:VEVENT
DTSTART;TZID=Africa/Johannesburg:20241116T100000
DTEND;TZID=Africa/Johannesburg:20241116T110000
DTSTAMP:20260421T064954
CREATED:20241116T075944Z
LAST-MODIFIED:20241116T075944Z
UID:2376-1731751200-1731754800@www.romancewriters.co.za
SUMMARY:Coffee Chat
DESCRIPTION:Bring your questions\, your tiara and let’s have some fun!
URL:https://www.romancewriters.co.za/events/coffee-chat/
CATEGORIES:Free Online Event
ORGANIZER;CN="ROSA":MAILTO:website@romancewriters.co.za
END:VEVENT
BEGIN:VEVENT
DTSTART;TZID=Africa/Johannesburg:20241026T103000
DTEND;TZID=Africa/Johannesburg:20241026T113000
DTSTAMP:20260421T064954
CREATED:20241008T150702Z
LAST-MODIFIED:20241008T150702Z
UID:2293-1729938600-1729942200@www.romancewriters.co.za
SUMMARY:ROSA AGM 2024
DESCRIPTION:Join us for the 2024 ROSA Annual General Meeting.
URL:https://www.romancewriters.co.za/events/rosa-agm-2024/
LOCATION:ROSACon Discord Channel
ORGANIZER;CN="ROSA":MAILTO:website@romancewriters.co.za
END:VEVENT
BEGIN:VEVENT
DTSTART;VALUE=DATE:20241014
DTEND;VALUE=DATE:20241019
DTSTAMP:20260421T064954
CREATED:20241008T150516Z
LAST-MODIFIED:20241008T150516Z
UID:2291-1728864000-1729295999@www.romancewriters.co.za
SUMMARY:Voting for Exco
DESCRIPTION:Voting for the new ExCo will be open from 14 to 18 October 2024. Voting emails will be sent to all active members.
URL:https://www.romancewriters.co.za/events/voting-for-exco/
ORGANIZER;CN="ROSA":MAILTO:website@romancewriters.co.za
END:VEVENT
BEGIN:VEVENT
DTSTART;TZID=Africa/Johannesburg:20240307T140000
DTEND;TZID=Africa/Johannesburg:20240307T160000
DTSTAMP:20260421T064954
CREATED:20240215T124646Z
LAST-MODIFIED:20240724T103804Z
UID:1359-1709820000-1709827200@www.romancewriters.co.za
SUMMARY:ExCo Meeting
DESCRIPTION:For ExCo Members only.
URL:https://www.romancewriters.co.za/events/exco-meeting/
LOCATION:ExCo Discord Room
ORGANIZER;CN="ROSA":MAILTO:website@romancewriters.co.za
END:VEVENT
BEGIN:VEVENT
DTSTART;TZID=Africa/Johannesburg:20240926T090000
DTEND;TZID=Africa/Johannesburg:20240929T180000
DTSTAMP:20260421T064954
CREATED:20240902T162823Z
LAST-MODIFIED:20240902T163021Z
UID:2065-1727341200-1727632800@www.romancewriters.co.za
SUMMARY:Comic Con Africa 2024 - Authors
DESCRIPTION:Content is protected.
URL:https://www.romancewriters.co.za/events/comic-con-africa-2024-authors/
LOCATION:Johannesburg Expo Centre\, Nasrec rd\, corner Rand Show Rd\, Nasrec\, Johannesburg\, Gauteng\, 2091\, South Africa
ORGANIZER;CN="ROSA":MAILTO:website@romancewriters.co.za
END:VEVENT
BEGIN:VEVENT
DTSTART;TZID=Africa/Johannesburg:20240926T090000
DTEND;TZID=Africa/Johannesburg:20240929T180000
DTSTAMP:20260421T064954
CREATED:20240811T092614Z
LAST-MODIFIED:20240811T092614Z
UID:1970-1727341200-1727632800@www.romancewriters.co.za
SUMMARY:Comic Con Africa 2024
DESCRIPTION:Join ROSA at Comic Con Africa as raise awareness about the organisation\, and promote our authors!
URL:https://www.romancewriters.co.za/events/comic-con-africa-2024/
LOCATION:Johannesburg Expo Centre\, Nasrec rd\, corner Rand Show Rd\, Nasrec\, Johannesburg\, Gauteng\, 2091\, South Africa
ATTACH;FMTTYPE=image/jpeg:https://www.romancewriters.co.za/wp-content/uploads/2024/08/452630451_797139082595424_4797549690785106177_n.jpg
ORGANIZER;CN="ROSA":MAILTO:website@romancewriters.co.za
END:VEVENT
BEGIN:VEVENT
DTSTART;TZID=Africa/Johannesburg:20240920T140000
DTEND;TZID=Africa/Johannesburg:20240922T100000
DTSTAMP:20260421T064954
CREATED:20240806T082516Z
LAST-MODIFIED:20240915T072304Z
UID:1858-1726840800-1726999200@www.romancewriters.co.za
SUMMARY:ROSACon 2024
DESCRIPTION:The Romance writers Organisation of South Africa (ROSA) is pleased to announce we will be holding our next in-person conference in Muldersdrift\, Johannesburg from Friday the 20th until Sunday the 22nd of September 2024. \nNestled in the foothills of the Swartkop mountains on the threshold of the beautiful Kromdraai Valley in Muldersdrift\, Misty Hills is one of the most popular hotel and conference venues in Gauteng\, and we have managed to secure this venue for our 2024 conference. \nWe have secured a 10% discount on hotel accommodation for Friday 20th and Saturday 21st September if you book through ROSA. You can book rooms for single occupancy or find a buddy to share with and pay less! Please note it will be up to you to provide the name of the delegate you will be sharing a room with. Alternatively\, should you prefer to make your own arrangements for accommodation\, you are welcome to do so.
URL:https://www.romancewriters.co.za/events/rosacon-2024/
LOCATION:Misty Hills Country Hotel\, Conference Centre & Spa\, Muldersdrift Estate\, 69 Drift boulevard\, Muldersdrift\, Gauteng\, 1747\, South Africa
ORGANIZER;CN="ROSA":MAILTO:website@romancewriters.co.za
END:VEVENT
BEGIN:VEVENT
DTSTART;TZID=Africa/Johannesburg:20240920T103000
DTEND;TZID=Africa/Johannesburg:20240920T140000
DTSTAMP:20260421T064954
CREATED:20240811T095537Z
LAST-MODIFIED:20240811T095653Z
UID:1973-1726828200-1726840800@www.romancewriters.co.za
SUMMARY:ROSA Exco Think Tank
DESCRIPTION:For Exco Members only.
URL:https://www.romancewriters.co.za/events/rosa-exco-think-tank/
LOCATION:Misty Hills Country Hotel\, Conference Centre & Spa\, Muldersdrift Estate\, 69 Drift boulevard\, Muldersdrift\, Gauteng\, 1747\, South Africa
ATTACH;FMTTYPE=image/png:https://www.romancewriters.co.za/wp-content/uploads/2023/12/ROSA-Logo-2022_Final_Icon-Colour.jpg.png
ORGANIZER;CN="ROSA":MAILTO:website@romancewriters.co.za
END:VEVENT
BEGIN:VEVENT
DTSTART;TZID=Africa/Johannesburg:20240307T140000
DTEND;TZID=Africa/Johannesburg:20240307T160000
DTSTAMP:20260421T064954
CREATED:20240215T124646Z
LAST-MODIFIED:20240724T103804Z
UID:1359-1709820000-1709827200@www.romancewriters.co.za
SUMMARY:ExCo Meeting
DESCRIPTION:For ExCo Members only.
URL:https://www.romancewriters.co.za/events/exco-meeting/
LOCATION:ExCo Discord Room
ORGANIZER;CN="ROSA":MAILTO:website@romancewriters.co.za
END:VEVENT
BEGIN:VEVENT
DTSTART;TZID=Africa/Johannesburg:20240831T100000
DTEND;TZID=Africa/Johannesburg:20240831T110000
DTSTAMP:20260421T064954
CREATED:20240812T172547Z
LAST-MODIFIED:20240812T172547Z
UID:2009-1725098400-1725102000@www.romancewriters.co.za
SUMMARY:ROSACon 2024 Planning Committee
DESCRIPTION:Finalising outstanding tasks for the upcoming JHB Conference. Discord.
URL:https://www.romancewriters.co.za/events/rosacon-2024-planning-committee-2/
ORGANIZER;CN="ROSA":MAILTO:website@romancewriters.co.za
END:VEVENT
BEGIN:VEVENT
DTSTART;TZID=Africa/Johannesburg:20240829T180000
DTEND;TZID=Africa/Johannesburg:20240829T210000
DTSTAMP:20260421T064954
CREATED:20240612T085528Z
LAST-MODIFIED:20240612T144359Z
UID:1743-1724954400-1724965200@www.romancewriters.co.za
SUMMARY:Romancing The Reader
DESCRIPTION:Come join us at Exclusive Books in the Rosebank\, for an evening of fun.
URL:https://www.romancewriters.co.za/events/romancing-the-reader-aug/
LOCATION:Exclusive Books – Rosebank\, Shop 307-311\, Level 3\, Rosebank Mall\, Rosebank\, Gauteng\, 2196\, South Africa
ATTACH;FMTTYPE=image/png:https://www.romancewriters.co.za/wp-content/uploads/2023/12/ROSA-Logo-2022_Final_Icon-Colour.jpg.png
ORGANIZER;CN="ROSA":MAILTO:website@romancewriters.co.za
END:VEVENT
BEGIN:VEVENT
DTSTART;TZID=Africa/Johannesburg:20240812T190000
DTEND;TZID=Africa/Johannesburg:20240812T200000
DTSTAMP:20260421T064954
CREATED:20240803T100436Z
LAST-MODIFIED:20240803T100436Z
UID:1854-1723489200-1723492800@www.romancewriters.co.za
SUMMARY:ROSACon Planning Meeting
DESCRIPTION:
URL:https://www.romancewriters.co.za/events/rosacon-planning-meeting/
ORGANIZER;CN="ROSA":MAILTO:website@romancewriters.co.za
END:VEVENT
BEGIN:VEVENT
DTSTART;TZID=Africa/Johannesburg:20240711T140000
DTEND;TZID=Africa/Johannesburg:20240711T160000
DTSTAMP:20260421T064954
CREATED:20240704T130350Z
LAST-MODIFIED:20240724T103533Z
UID:1825-1720706400-1720713600@www.romancewriters.co.za
SUMMARY:ExCo Meeting
DESCRIPTION:
URL:https://www.romancewriters.co.za/events/exco-meeting-2/
LOCATION:ExCo Discord Room
ORGANIZER;CN="ROSA":MAILTO:website@romancewriters.co.za
END:VEVENT
BEGIN:VEVENT
DTSTART;TZID=Africa/Johannesburg:20240803T100000
DTEND;TZID=Africa/Johannesburg:20240803T110000
DTSTAMP:20260421T064954
CREATED:20240724T104203Z
LAST-MODIFIED:20240724T104203Z
UID:1840-1722679200-1722682800@www.romancewriters.co.za
SUMMARY:ROSACon 2024 Planning committee
DESCRIPTION:For ROSACon 2024 Planning committee only!
URL:https://www.romancewriters.co.za/events/rosacon-2024-planning-committee/
LOCATION:ROSACon Discord Channel
ORGANIZER;CN="ROSA":MAILTO:website@romancewriters.co.za
END:VEVENT
BEGIN:VEVENT
DTSTART;TZID=Africa/Johannesburg:20240717T100000
DTEND;TZID=Africa/Johannesburg:20240717T120000
DTSTAMP:20260421T064954
CREATED:20240715T113334Z
LAST-MODIFIED:20240715T113334Z
UID:1834-1721210400-1721217600@www.romancewriters.co.za
SUMMARY:WIPit Wednesday
DESCRIPTION:
URL:https://www.romancewriters.co.za/events/wipit-wednesday/
LOCATION:Exclusive Books – Rosebank\, Shop 307-311\, Level 3\, Rosebank Mall\, Rosebank\, Gauteng\, 2196\, South Africa
ATTACH;FMTTYPE=image/jpeg:https://www.romancewriters.co.za/wp-content/uploads/2024/07/WhatsApp-Image-2024-07-09-at-12.18.46.jpeg
ORGANIZER;CN="ROSA":MAILTO:website@romancewriters.co.za
END:VEVENT
BEGIN:VEVENT
DTSTART;TZID=Africa/Johannesburg:20240713T090000
DTEND;TZID=Africa/Johannesburg:20240713T120000
DTSTAMP:20260421T064954
CREATED:20240429T083206Z
LAST-MODIFIED:20240429T083206Z
UID:1545-1720861200-1720872000@www.romancewriters.co.za
SUMMARY:Durbanville Library Event
DESCRIPTION:Event is free. Authors provide a snack platter and\, when necessary\, donate a book to the library. Each author is responsible for their own table decorations and book sales. \nIf authors should wish to attend\, they can contact me by email (beatonfrancine@gmail.com or WhatsApp (0826737321).
URL:https://www.romancewriters.co.za/events/durbanville-library-event/
ATTACH;FMTTYPE=image/png:https://www.romancewriters.co.za/wp-content/uploads/2024/04/Durbanville-Horizontal-Custom.png
ORGANIZER;CN="ROSA":MAILTO:website@romancewriters.co.za
END:VEVENT
BEGIN:VEVENT
DTSTART;TZID=Africa/Johannesburg:20240711T140000
DTEND;TZID=Africa/Johannesburg:20240711T160000
DTSTAMP:20260421T064954
CREATED:20240704T130350Z
LAST-MODIFIED:20240724T103533Z
UID:1825-1720706400-1720713600@www.romancewriters.co.za
SUMMARY:ExCo Meeting
DESCRIPTION:
URL:https://www.romancewriters.co.za/events/exco-meeting-2/
LOCATION:ExCo Discord Room
ORGANIZER;CN="ROSA":MAILTO:website@romancewriters.co.za
END:VEVENT
BEGIN:VEVENT
DTSTART;TZID=Africa/Johannesburg:20240706T090000
DTEND;TZID=Africa/Johannesburg:20240706T123000
DTSTAMP:20260421T064954
CREATED:20240429T082844Z
LAST-MODIFIED:20240429T083241Z
UID:1543-1720256400-1720269000@www.romancewriters.co.za
SUMMARY:Glenstantia Library Event
DESCRIPTION:Event is free. Authors provide a snack platter and\, when necessary\, donate a book to the library. Each author is responsible for their own table decorations and book sales. \nIf authors should wish to attend\, they can contact me by email (beatonfrancine@gmail.com or WhatsApp (0826737321).
URL:https://www.romancewriters.co.za/events/glenstantia-library-event/
LOCATION:Glenstantia Library\, 510 Chopin St\, Constantia Park\, Pretoria\, Gauteng\, 0010\, South Africa
ATTACH;FMTTYPE=image/png:https://www.romancewriters.co.za/wp-content/uploads/2024/04/Glenstantia-Horizontal-Custom.png
ORGANIZER;CN="ROSA":MAILTO:website@romancewriters.co.za
END:VEVENT
BEGIN:VEVENT
DTSTART;TZID=Africa/Johannesburg:20240307T140000
DTEND;TZID=Africa/Johannesburg:20240307T160000
DTSTAMP:20260421T064954
CREATED:20240215T124646Z
LAST-MODIFIED:20240724T103804Z
UID:1359-1709820000-1709827200@www.romancewriters.co.za
SUMMARY:ExCo Meeting
DESCRIPTION:For ExCo Members only.
URL:https://www.romancewriters.co.za/events/exco-meeting/
LOCATION:ExCo Discord Room
ORGANIZER;CN="ROSA":MAILTO:website@romancewriters.co.za
END:VEVENT
BEGIN:VEVENT
DTSTART;TZID=Africa/Johannesburg:20240629T100000
DTEND;TZID=Africa/Johannesburg:20240629T120000
DTSTAMP:20260421T064954
CREATED:20240312T151904Z
LAST-MODIFIED:20240312T151904Z
UID:1422-1719655200-1719662400@www.romancewriters.co.za
SUMMARY:Coffee Chat June 2024
DESCRIPTION:Website\, blogging\, direct sales! \nDo you need a website? Is blogging still alive and well? Can I sell books directly? Is it worth it? Join in on the discussion!
URL:https://www.romancewriters.co.za/events/coffee-chat-june-2024/
LOCATION:Coffee Chat Discord Room
ORGANIZER;CN="ROSA":MAILTO:website@romancewriters.co.za
END:VEVENT
BEGIN:VEVENT
DTSTART;TZID=Africa/Johannesburg:20240307T140000
DTEND;TZID=Africa/Johannesburg:20240307T160000
DTSTAMP:20260421T064954
CREATED:20240215T124646Z
LAST-MODIFIED:20240724T103804Z
UID:1359-1709820000-1709827200@www.romancewriters.co.za
SUMMARY:ExCo Meeting
DESCRIPTION:For ExCo Members only.
URL:https://www.romancewriters.co.za/events/exco-meeting/
LOCATION:ExCo Discord Room
ORGANIZER;CN="ROSA":MAILTO:website@romancewriters.co.za
END:VEVENT
BEGIN:VEVENT
DTSTART;TZID=Africa/Johannesburg:20240601T090000
DTEND;TZID=Africa/Johannesburg:20240601T170000
DTSTAMP:20260421T064954
CREATED:20240429T082507Z
LAST-MODIFIED:20240429T082507Z
UID:1541-1717232400-1717261200@www.romancewriters.co.za
SUMMARY:Cullinan Winter Wine Festival
DESCRIPTION:Cullinan Winter Wine FestivalEvent is free. Authors provide a snack platter and\, when necessary\, donate a book to the library. Each author is responsible for their own table decorations and book sales. \nIf authors should wish to attend\, they can contact me by email (beatonfrancine@gmail.com or WhatsApp (0826737321).
URL:https://www.romancewriters.co.za/events/cullinan-winter-wine-festival/
ATTACH;FMTTYPE=image/png:https://www.romancewriters.co.za/wp-content/uploads/2024/04/Cullinan-Winter-Wine-Horizontal-Custom.png
ORGANIZER;CN="ROSA":MAILTO:website@romancewriters.co.za
END:VEVENT
BEGIN:VEVENT
DTSTART;TZID=Africa/Johannesburg:20240525T100000
DTEND;TZID=Africa/Johannesburg:20240525T120000
DTSTAMP:20260421T064954
CREATED:20240312T151808Z
LAST-MODIFIED:20240312T151808Z
UID:1420-1716631200-1716638400@www.romancewriters.co.za
SUMMARY:Coffee Chat May 2024
DESCRIPTION:How to spend your moola on a limited budget launch \nNot sure where to prioritize your budget when it comes to publishing your book? We’ve all been there! So\, let’s fire up this fiery topic!
URL:https://www.romancewriters.co.za/events/coffee-chat-may-2024/
LOCATION:Coffee Chat Discord Room
ORGANIZER;CN="ROSA":MAILTO:website@romancewriters.co.za
END:VEVENT
BEGIN:VEVENT
DTSTART;TZID=Africa/Johannesburg:20240525T090000
DTEND;TZID=Africa/Johannesburg:20240525T123000
DTSTAMP:20260421T064954
CREATED:20240429T082316Z
LAST-MODIFIED:20240429T082611Z
UID:1539-1716627600-1716640200@www.romancewriters.co.za
SUMMARY:Moot Library Event
DESCRIPTION:Event is free. Authors provide a snack platter and\, when necessary\, donate a book to the library. Each author is responsible for their own table decorations and book sales. \nIf authors should wish to attend\, they can contact me by email (beatonfrancine@gmail.com or WhatsApp (0826737321).
URL:https://www.romancewriters.co.za/events/moot-library-event/
LOCATION:Moot Community Library\, 732 Frederika St\, Rietfontein\, Pretoria\, Gauteng\, 0084\, South Africa
ATTACH;FMTTYPE=image/png:https://www.romancewriters.co.za/wp-content/uploads/2024/04/Moot-Landscape_Skrywers-Custom.png
ORGANIZER;CN="ROSA":MAILTO:website@romancewriters.co.za
END:VEVENT
BEGIN:VEVENT
DTSTART;TZID=Africa/Johannesburg:20240510T140000
DTEND;TZID=Africa/Johannesburg:20240510T160000
DTSTAMP:20260421T064954
CREATED:20240429T081954Z
LAST-MODIFIED:20240429T081954Z
UID:1526-1715349600-1715356800@www.romancewriters.co.za
SUMMARY:Tygervalley Library Event
DESCRIPTION:Event is free. Authors provide a snack platter and\, when necessary\, donate a book to the library. Each author is responsible for their own table decorations and book sales. \nIf authors should wish to attend\, they can contact me by email (beatonfrancine@gmail.com or WhatsApp (0826737321).
URL:https://www.romancewriters.co.za/events/tygervalley-library-event/
LOCATION:Tygervalley Library\, Shop 146\, Tygervalley Mall\, Willie Van Schoor Dr\, Bellville Park\, Cape Town\, Western Cape\, 7530\, South Africa
ATTACH;FMTTYPE=image/png:https://www.romancewriters.co.za/wp-content/uploads/2024/04/Tygervalley-Landscape-English-Custom.png
ORGANIZER;CN="ROSA":MAILTO:website@romancewriters.co.za
END:VEVENT
END:VCALENDAR