BEGIN:VCALENDAR
VERSION:2.0
PRODID:-//ROSA - ECPv6.15.20//NONSGML v1.0//EN
CALSCALE:GREGORIAN
METHOD:PUBLISH
X-WR-CALNAME:ROSA
X-ORIGINAL-URL:https://www.romancewriters.co.za
X-WR-CALDESC:Events for ROSA
REFRESH-INTERVAL;VALUE=DURATION:PT1H
X-Robots-Tag:noindex
X-PUBLISHED-TTL:PT1H
BEGIN:VTIMEZONE
TZID:Africa/Johannesburg
BEGIN:STANDARD
TZOFFSETFROM:+0200
TZOFFSETTO:+0200
TZNAME:SAST
DTSTART:20230101T000000
END:STANDARD
END:VTIMEZONE
BEGIN:VEVENT
DTSTART;TZID=Africa/Johannesburg:20250823T120000
DTEND;TZID=Africa/Johannesburg:20250823T130000
DTSTAMP:20260421T033704
CREATED:20250805T110022Z
LAST-MODIFIED:20250805T110022Z
UID:3040-1755950400-1755954000@www.romancewriters.co.za
SUMMARY:Let's Talk Romance
DESCRIPTION:Celebrate the joy of writing love stories with a panel of authors who’ve shared the journey. From early critique partners to writing mentors and creative allies\, they reflect on craft\, community\, and why romance writing is as bold as it is beautiful… \n  \nFurther information can be found at: https://indieauthorsriseup.co.za/
URL:https://www.romancewriters.co.za/events/lets-talk-romance/
LOCATION:Flagstone Winery\, W.R. Quinan Blvd\, Paardevlei\, Somerset West\, Western Cape\, 7129\, South Africa
ATTACH;FMTTYPE=image/avif:https://www.romancewriters.co.za/wp-content/uploads/2025/08/aa76e4_b25b425ef43443acb2e150cf3f8448edmv2.avif
END:VEVENT
BEGIN:VEVENT
DTSTART;TZID=Africa/Johannesburg:20250823T100000
DTEND;TZID=Africa/Johannesburg:20250823T110000
DTSTAMP:20260421T033704
CREATED:20250805T105733Z
LAST-MODIFIED:20250805T105733Z
UID:3037-1755943200-1755946800@www.romancewriters.co.za
SUMMARY:Finding your voice: Writing romance with ROSA
DESCRIPTION:Join members of ROSA as they reveal how the organisation empowers romance writers through support\, community\, and professional guidance—while championing the genre\, challenging stigma\, and creating space for South African authors to tell bold\, authentic love stories… \nFurther information can be found at:  https://indieauthorsriseup.co.za/
URL:https://www.romancewriters.co.za/events/finding-your-voice-writing-romance-with-rosa/
LOCATION:Flagstone Winery\, W.R. Quinan Blvd\, Paardevlei\, Somerset West\, Western Cape\, 7129\, South Africa
ATTACH;FMTTYPE=image/avif:https://www.romancewriters.co.za/wp-content/uploads/2025/08/aa76e4_4fb9a5553f9b49bb99b1921936dd52cdmv2.avif
END:VEVENT
BEGIN:VEVENT
DTSTART;TZID=Africa/Johannesburg:20250820T100000
DTEND;TZID=Africa/Johannesburg:20250820T123000
DTSTAMP:20260421T033704
CREATED:20250717T082527Z
LAST-MODIFIED:20250717T082527Z
UID:3018-1755684000-1755693000@www.romancewriters.co.za
SUMMARY:WIPit Wednesday (JHB)
DESCRIPTION:Need inspiration to finish that project? A brain-storming session? Interaction with writers just like you? Watch the Announcement Group for the venue details.
URL:https://www.romancewriters.co.za/events/wipit-wednesday-jhb-3/
LOCATION:Western Cape
CATEGORIES:Free Get Together
ORGANIZER;CN="ROSA":MAILTO:website@romancewriters.co.za
END:VEVENT
BEGIN:VEVENT
DTSTART;TZID=Africa/Johannesburg:20250816T100000
DTEND;TZID=Africa/Johannesburg:20250816T123000
DTSTAMP:20260421T033704
CREATED:20250102T142049Z
LAST-MODIFIED:20250102T145547Z
UID:2493-1755338400-1755347400@www.romancewriters.co.za
SUMMARY:On The Write Track (PTA)
DESCRIPTION:Watch the Announcements Group for venue and other details.
URL:https://www.romancewriters.co.za/events/on-the-write-track-pta-8/
LOCATION:Western Cape
ORGANIZER;CN="ROSA":MAILTO:website@romancewriters.co.za
END:VEVENT
BEGIN:VEVENT
DTSTART;TZID=Africa/Johannesburg:20250808T100000
DTEND;TZID=Africa/Johannesburg:20250808T130000
DTSTAMP:20260421T033704
CREATED:20250805T105230Z
LAST-MODIFIED:20250805T105230Z
UID:3035-1754647200-1754658000@www.romancewriters.co.za
SUMMARY:Die Vrouens in Ons Stories
DESCRIPTION:Kom kuier saam met plaaslike skrywers en digters en gesels oor die vroue wat ons inspireer\, ons idees vorm\, en soms heeltemal oorneem!
URL:https://www.romancewriters.co.za/events/die-vrouens-in-ons-stories/
LOCATION:Waverley Library\, 1345 Cunningham Ave\, Waverley\, Pretoria\, Gauteng\, 0186
ATTACH;FMTTYPE=image/png:https://www.romancewriters.co.za/wp-content/uploads/2025/08/Vrouedag2-Instagram-Post.png
END:VEVENT
BEGIN:VEVENT
DTSTART;TZID=Africa/Johannesburg:20250719T100000
DTEND;TZID=Africa/Johannesburg:20250719T123000
DTSTAMP:20260421T033704
CREATED:20250102T141902Z
LAST-MODIFIED:20250102T145507Z
UID:2489-1752919200-1752928200@www.romancewriters.co.za
SUMMARY:On The Write Track (PTA)
DESCRIPTION:Watch the Announcements Group for venue and other details.
URL:https://www.romancewriters.co.za/events/on-the-write-track-pta-6/
LOCATION:Western Cape
ORGANIZER;CN="ROSA":MAILTO:website@romancewriters.co.za
END:VEVENT
BEGIN:VEVENT
DTSTART;TZID=Africa/Johannesburg:20250716T100000
DTEND;TZID=Africa/Johannesburg:20250716T123000
DTSTAMP:20260421T033704
CREATED:20250102T135335Z
LAST-MODIFIED:20250717T082345Z
UID:2471-1752660000-1752669000@www.romancewriters.co.za
SUMMARY:WIPit Wednesday (JHB)
DESCRIPTION:Need inspiration to finish that project? A brain-storming session? Interaction with writers just like you? Watch the Announcement Group for the venue details.
URL:https://www.romancewriters.co.za/events/wipit-wednesday-jhb-and-pta-4/
LOCATION:Western Cape
CATEGORIES:Free Get Together
ORGANIZER;CN="ROSA":MAILTO:website@romancewriters.co.za
END:VEVENT
BEGIN:VEVENT
DTSTART;TZID=Africa/Johannesburg:20250614T100000
DTEND;TZID=Africa/Johannesburg:20250614T123000
DTSTAMP:20260421T033704
CREATED:20250102T141712Z
LAST-MODIFIED:20250102T141712Z
UID:2486-1749895200-1749904200@www.romancewriters.co.za
SUMMARY:On The Write Track (PTA)
DESCRIPTION:Alternating Wednesday’s and Saturday’s. Watch the Announcements Group for venue and other details.
URL:https://www.romancewriters.co.za/events/on-the-write-track-pta-5/
LOCATION:Western Cape
ORGANIZER;CN="ROSA":MAILTO:website@romancewriters.co.za
END:VEVENT
BEGIN:VEVENT
DTSTART;TZID=Africa/Johannesburg:20250523T150000
DTEND;TZID=Africa/Johannesburg:20250525T163000
DTSTAMP:20260421T033704
CREATED:20250331T153620Z
LAST-MODIFIED:20250401T095220Z
UID:2690-1748012400-1748190600@www.romancewriters.co.za
SUMMARY:ROSA Cape Town Retreat
DESCRIPTION:Fancy a weekend away from the hustle and bustle of life? Join us for two days of writing (and probably authorish chatting) at The Lodge at Atlantic Beach\, Melkbos. Come for a day or sleep over. There will be lots of writing time and one scheduled workshop on Saturday 24 May 2025 – Shift from Story Teller to Story Seller by the wonderful Cathy Park Kelly. \nGet your tickets before 30 April 2025 to benefit from the Early Bird pricing. \nPartners are welcome although writing will be our priority for the two days. \nNOTE:  \n\nBreakfast is included on Sat/Sun but you will be responsible for all lunches and dinners. Two restaurants are available onsite (or bring your own!)\nIt is up to you to arrange who you will be sharing a room with. If you do not have someone to share with\, you will need to upgrade to a single package
URL:https://www.romancewriters.co.za/events/rosa-cape-town-retreat/
LOCATION:The Lodge at Atlantic Beach\, 100 Fairway Drive\, Melkbosstrand\, Western Cape\, 7441\, South Africa
ORGANIZER;CN="ROSA":MAILTO:website@romancewriters.co.za
END:VEVENT
BEGIN:VEVENT
DTSTART;TZID=Africa/Johannesburg:20250521T100000
DTEND;TZID=Africa/Johannesburg:20250521T130000
DTSTAMP:20260421T033704
CREATED:20250520T190037Z
LAST-MODIFIED:20250520T190037Z
UID:2798-1747821600-1747832400@www.romancewriters.co.za
SUMMARY:WiPIt Wednesday (Jhb)
DESCRIPTION:
URL:https://www.romancewriters.co.za/events/wipit-wednesday-jhb-2/
LOCATION:Exclusive Books – Rosebank\, Shop 307-311\, Level 3\, Rosebank Mall\, Rosebank\, Gauteng\, 2196\, South Africa
END:VEVENT
BEGIN:VEVENT
DTSTART;TZID=Africa/Johannesburg:20250419T100000
DTEND;TZID=Africa/Johannesburg:20250419T123000
DTSTAMP:20260421T033704
CREATED:20250102T141529Z
LAST-MODIFIED:20250102T145418Z
UID:2482-1745056800-1745065800@www.romancewriters.co.za
SUMMARY:On The Write Track (PTA)
DESCRIPTION:Watch the Announcements Group for venue and other details.
URL:https://www.romancewriters.co.za/events/on-the-write-track-pta-3/
LOCATION:Western Cape
ORGANIZER;CN="ROSA":MAILTO:website@romancewriters.co.za
END:VEVENT
BEGIN:VEVENT
DTSTART;TZID=Africa/Johannesburg:20250416T100000
DTEND;TZID=Africa/Johannesburg:20250416T130000
DTSTAMP:20260421T033704
CREATED:20250102T135147Z
LAST-MODIFIED:20250402T120323Z
UID:2468-1744797600-1744808400@www.romancewriters.co.za
SUMMARY:WIPit Wednesday (JHB)
DESCRIPTION:Need inspiration to finish that project? A brain-storming session? Interaction with writers just like you?
URL:https://www.romancewriters.co.za/events/wipit-wednesday-jhb-and-pta-3/
LOCATION:Western Cape
CATEGORIES:Free Get Together
ATTACH;FMTTYPE=image/png:https://www.romancewriters.co.za/wp-content/uploads/2025/01/WipItWed_Pta_23Apr.png
ORGANIZER;CN="ROSA":MAILTO:website@romancewriters.co.za
END:VEVENT
BEGIN:VEVENT
DTSTART;TZID=Africa/Johannesburg:20250329T100000
DTEND;TZID=Africa/Johannesburg:20250329T123000
DTSTAMP:20260421T033704
CREATED:20250102T141442Z
LAST-MODIFIED:20250315T122537Z
UID:2480-1743242400-1743251400@www.romancewriters.co.za
SUMMARY:WiPIt Wednesday (PTA)
DESCRIPTION:Let’s brainstorm your current WiP or talk about the importance of reading in and adjacent to your genre
URL:https://www.romancewriters.co.za/events/on-the-write-track-pta-2/
LOCATION:Lakeview Coffeeshop & Bistro Waterkloof Marina Estate\, Orion Avenue\, Waterkloof\, Pretoria\, Gauteng\, South Africa
CATEGORIES:Free Get Together
ATTACH;FMTTYPE=image/png:https://www.romancewriters.co.za/wp-content/uploads/2025/01/WipItWed_Pta_29Mar.png
ORGANIZER;CN="ROSA":MAILTO:website@romancewriters.co.za
END:VEVENT
BEGIN:VEVENT
DTSTART;TZID=Africa/Johannesburg:20250329T100000
DTEND;TZID=Africa/Johannesburg:20250329T120000
DTSTAMP:20260421T033704
CREATED:20250204T090218Z
LAST-MODIFIED:20250204T090450Z
UID:2540-1743242400-1743249600@www.romancewriters.co.za
SUMMARY:Coffee Chat (Discord)
DESCRIPTION:Story Structure! How are YOU doing it? \nFree online get together
URL:https://www.romancewriters.co.za/events/coffee-chat-discord-2/
LOCATION:Western Cape
ATTACH;FMTTYPE=image/png:https://www.romancewriters.co.za/wp-content/uploads/2025/02/Online-Coffee-Chat-March.png
ORGANIZER;CN="ROSA":MAILTO:website@romancewriters.co.za
END:VEVENT
BEGIN:VEVENT
DTSTART;TZID=Africa/Johannesburg:20250319T100000
DTEND;TZID=Africa/Johannesburg:20250319T120000
DTSTAMP:20260421T033704
CREATED:20250315T123126Z
LAST-MODIFIED:20250315T123126Z
UID:2641-1742378400-1742385600@www.romancewriters.co.za
SUMMARY:WiPit Wednesday (JHB)
DESCRIPTION:Bring along your WiPs. Alternatively\, we’ll be chatting about the need for a PA.
URL:https://www.romancewriters.co.za/events/wipit-wednesday-jhb/
LOCATION:Exclusive Books – Rosebank\, Shop 307-311\, Level 3\, Rosebank Mall\, Rosebank\, Gauteng\, 2196\, South Africa
CATEGORIES:Free for Members,Free Get Together
ATTACH;FMTTYPE=image/jpeg:https://www.romancewriters.co.za/wp-content/uploads/2025/03/WhatsApp-Image-2025-03-05-at-14.11.24.jpeg
ORGANIZER;CN="ROSA":MAILTO:website@romancewriters.co.za
END:VEVENT
BEGIN:VEVENT
DTSTART;TZID=Africa/Johannesburg:20250222T130000
DTEND;TZID=Africa/Johannesburg:20250222T170000
DTSTAMP:20260421T033704
CREATED:20250102T141347Z
LAST-MODIFIED:20250204T091245Z
UID:2477-1740229200-1740243600@www.romancewriters.co.za
SUMMARY:On The Write Track (PTA)
DESCRIPTION:How do you plan your writing time? \nJoin us for On the Write Track\, our monthly meetup where we tackle different aspects of writing\, publishing\, and creativity! \nEach session is unique-from expert Q&As to brainstorming\, writing sprints\, industry chats\, and more!
URL:https://www.romancewriters.co.za/events/on-the-write-track-pta/
LOCATION:Lakeview Coffeeshop & Bistro Waterkloof Marina Estate\, Orion Avenue\, Waterkloof\, Pretoria\, Gauteng\, South Africa
CATEGORIES:Free Get Together
ATTACH;FMTTYPE=image/png:https://www.romancewriters.co.za/wp-content/uploads/2025/01/PTA-OTWT-February.png
ORGANIZER;CN="ROSA":MAILTO:website@romancewriters.co.za
END:VEVENT
BEGIN:VEVENT
DTSTART;TZID=Africa/Johannesburg:20250222T100000
DTEND;TZID=Africa/Johannesburg:20250222T120000
DTSTAMP:20260421T033704
CREATED:20250204T085943Z
LAST-MODIFIED:20250204T090904Z
UID:2532-1740218400-1740225600@www.romancewriters.co.za
SUMMARY:Coffee Chat (Discord)
DESCRIPTION:Connecting with other authors in your field an out! \nFree online event
URL:https://www.romancewriters.co.za/events/coffee-chat-discord/
LOCATION:Western Cape
CATEGORIES:Free Online Event
ATTACH;FMTTYPE=image/png:https://www.romancewriters.co.za/wp-content/uploads/2025/02/Online-Coffee-Chat-February.png
ORGANIZER;CN="ROSA":MAILTO:website@romancewriters.co.za
END:VEVENT
BEGIN:VEVENT
DTSTART;TZID=Africa/Johannesburg:20250219T100000
DTEND;TZID=Africa/Johannesburg:20250219T120000
DTSTAMP:20260421T033704
CREATED:20250204T101845Z
LAST-MODIFIED:20250204T101845Z
UID:2552-1739959200-1739966400@www.romancewriters.co.za
SUMMARY:WiPIt Wednesday (PTA)
DESCRIPTION:Bring along your WiPs and we can brainstorm together. Alternatively\, we’ll talk about the importance of reading in and adjacent to\, your genre.
URL:https://www.romancewriters.co.za/events/wipit-wednesday-pta-2/
LOCATION:Lakeview Coffeeshop & Bistro Waterkloof Marina Estate\, Orion Avenue\, Waterkloof\, Pretoria\, Gauteng\, South Africa
CATEGORIES:Free Get Together
ATTACH;FMTTYPE=image/png:https://www.romancewriters.co.za/wp-content/uploads/2025/02/PTA-WipIt-February.png
ORGANIZER;CN="ROSA":MAILTO:website@romancewriters.co.za
END:VEVENT
BEGIN:VEVENT
DTSTART;TZID=Africa/Johannesburg:20250215T100000
DTEND;TZID=Africa/Johannesburg:20250215T110000
DTSTAMP:20260421T033704
CREATED:20250205T100951Z
LAST-MODIFIED:20250205T101558Z
UID:2565-1739613600-1739617200@www.romancewriters.co.za
SUMMARY:Kom gesels saam met ELSA WINCKLER
DESCRIPTION:Valentynsmaand is die maand van harte\, sjokolade en die koningin van Afrikaanse liefdestonele\, Elsa Winckler. \nKom spits jou ore\, want Elsa gaan met ons gesels oor die skryf van stylvolle\, intieme liefdestonele. \nLink will be sent to those who RSVP 🙂
URL:https://www.romancewriters.co.za/events/kom-gesels-saam-met-elsa-winckler/
LOCATION:Western Cape
CATEGORIES:Free for Members
ATTACH;FMTTYPE=image/jpeg:https://www.romancewriters.co.za/wp-content/uploads/2025/02/Gesels-saam-met-Elsa-Winckler-2.jpg
ORGANIZER;CN="ROSA":MAILTO:website@romancewriters.co.za
END:VEVENT
BEGIN:VEVENT
DTSTART;TZID=Africa/Johannesburg:20250208T100000
DTEND;TZID=Africa/Johannesburg:20250208T120000
DTSTAMP:20260421T033704
CREATED:20250204T091645Z
LAST-MODIFIED:20250204T091737Z
UID:2549-1739008800-1739016000@www.romancewriters.co.za
SUMMARY:Coffee Chat Get Together (CT)
DESCRIPTION:Climb out of your writing cave and join other authors to fill your creative cup!
URL:https://www.romancewriters.co.za/events/coffee-chat-get-together-ct/
LOCATION:Western Cape
CATEGORIES:Free Get Together
ATTACH;FMTTYPE=image/png:https://www.romancewriters.co.za/wp-content/uploads/2025/02/CT-Coffee-Chat-8-Feb-2025.png
ORGANIZER;CN="ROSA":MAILTO:website@romancewriters.co.za
END:VEVENT
BEGIN:VEVENT
DTSTART;TZID=Africa/Johannesburg:20250122T100000
DTEND;TZID=Africa/Johannesburg:20250122T123000
DTSTAMP:20260421T033704
CREATED:20250102T134909Z
LAST-MODIFIED:20250102T144817Z
UID:2464-1737540000-1737549000@www.romancewriters.co.za
SUMMARY:On The Write Track (PTA)
DESCRIPTION:Need inspiration to finish that project? A brain-storming session? Interaction with writers just like you? Watch the Announcement Group for the venue details.
URL:https://www.romancewriters.co.za/events/wipit-wednesday-pta/
LOCATION:Western Cape
CATEGORIES:Free Get Together
ORGANIZER;CN="ROSA":MAILTO:website@romancewriters.co.za
END:VEVENT
BEGIN:VEVENT
DTSTART;TZID=Africa/Johannesburg:20250115T100000
DTEND;TZID=Africa/Johannesburg:20250115T123000
DTSTAMP:20260421T033704
CREATED:20250102T133334Z
LAST-MODIFIED:20250102T134948Z
UID:2454-1736935200-1736944200@www.romancewriters.co.za
SUMMARY:WIPit Wednesday (JHB)
DESCRIPTION:Need inspiration to finish that project? A brain-storming session? Interaction with writers just like you? Watch the Announcement Group for the venue details.
URL:https://www.romancewriters.co.za/events/wipit-wednesday-jhb-and-pta/
LOCATION:Western Cape
CATEGORIES:Free Get Together
ORGANIZER;CN="ROSA":MAILTO:website@romancewriters.co.za
END:VEVENT
BEGIN:VEVENT
DTSTART;TZID=Africa/Johannesburg:20250111T093000
DTEND;TZID=Africa/Johannesburg:20250111T123000
DTSTAMP:20260421T033704
CREATED:20241116T092140Z
LAST-MODIFIED:20241116T092218Z
UID:2384-1736587800-1736598600@www.romancewriters.co.za
SUMMARY:Vision Boards for Authors
DESCRIPTION:You’re invited to a creative\, hands-on Vision Board Workshop for authors! Let’s take time to dream\, plan\, and visualise your writing journey for 2025. \nhttps://forms.gle/6gb7sxXifVZL5DdR7
URL:https://www.romancewriters.co.za/events/vision-boards-for-authors/
LOCATION:TBA\, Pretoria
CATEGORIES:Paid Workshop
ATTACH;FMTTYPE=image/jpeg:https://www.romancewriters.co.za/wp-content/uploads/2024/11/Beyond-the-Vision-Workshop-Jan11.jpg
ORGANIZER;CN="ROSA":MAILTO:website@romancewriters.co.za
END:VEVENT
BEGIN:VEVENT
DTSTART;TZID=Africa/Johannesburg:20241228T100000
DTEND;TZID=Africa/Johannesburg:20241228T130000
DTSTAMP:20260421T033704
CREATED:20241116T080516Z
LAST-MODIFIED:20241116T080516Z
UID:2380-1735380000-1735390800@www.romancewriters.co.za
SUMMARY:Coffee Chat
DESCRIPTION:What’s up\, 2025!
URL:https://www.romancewriters.co.za/events/coffee-chat-2/
LOCATION:Coffee Chat Discord Room
CATEGORIES:Free Online Event
ORGANIZER;CN="ROSA":MAILTO:website@romancewriters.co.za
END:VEVENT
BEGIN:VEVENT
DTSTART;TZID=Africa/Johannesburg:20241216T120000
DTEND;TZID=Africa/Johannesburg:20241216T150000
DTSTAMP:20260421T033704
CREATED:20241204T075059Z
LAST-MODIFIED:20241214T112436Z
UID:2420-1734350400-1734361200@www.romancewriters.co.za
SUMMARY:ROSA JHB Chapter Year End Lunch
DESCRIPTION:
URL:https://www.romancewriters.co.za/events/rosa-jhb-chapter-year-end-lunch/
LOCATION:Très Jolie\, Plot 22\, Peter Road\, Ruimsig\, 1724\, South Africa
ORGANIZER;CN="ROSA":MAILTO:website@romancewriters.co.za
END:VEVENT
BEGIN:VEVENT
DTSTART;TZID=Africa/Johannesburg:20241216T110000
DTEND;TZID=Africa/Johannesburg:20241216T133000
DTSTAMP:20260421T033704
CREATED:20241203T081711Z
LAST-MODIFIED:20241203T082220Z
UID:2398-1734346800-1734355800@www.romancewriters.co.za
SUMMARY:Year End Function for the Pretoria Chapter Members
DESCRIPTION:This event is organsied by Francine Beaton who can be contacted on 0826737321 should you have any queries
URL:https://www.romancewriters.co.za/events/year-end-function-for-the-pretoria-chapter-members/
LOCATION:Lakeview Coffeeshop & Bistro Waterkloof Marina Estate\, Orion Avenue\, Waterkloof\, Pretoria\, Gauteng\, South Africa
ORGANIZER;CN="ROSA":MAILTO:website@romancewriters.co.za
END:VEVENT
BEGIN:VEVENT
DTSTART;TZID=Africa/Johannesburg:20241207T110000
DTEND;TZID=Africa/Johannesburg:20241207T150000
DTSTAMP:20260421T033704
CREATED:20241112T130306Z
LAST-MODIFIED:20241203T084050Z
UID:2350-1733569200-1733583600@www.romancewriters.co.za
SUMMARY:ROSA Cape Town Christmas Get Together
DESCRIPTION:
URL:https://www.romancewriters.co.za/events/rosa-cape-town-christmas-get-together/
LOCATION:Bossa Burgundy\, Viridian Street\, Burgundy Estate\, Cape Town\, Western Cape\, 7441\, South Africa
ORGANIZER;CN="ROSA":MAILTO:website@romancewriters.co.za
END:VEVENT
BEGIN:VEVENT
DTSTART;TZID=Africa/Johannesburg:20241120T100000
DTEND;TZID=Africa/Johannesburg:20241120T130000
DTSTAMP:20260421T033704
CREATED:20241116T080319Z
LAST-MODIFIED:20241116T092553Z
UID:2378-1732096800-1732107600@www.romancewriters.co.za
SUMMARY:WIPit\, Wednesday
DESCRIPTION:Bring along your WIP’s and we can brainstorm. Alternatively\, we’ll be discussing the importance of reading in and adjacent to your genre.
URL:https://www.romancewriters.co.za/events/wip-it-wednesday/
LOCATION:Exclusive Books – Rosebank\, Shop 307-311\, Level 3\, Rosebank Mall\, Rosebank\, Gauteng\, 2196\, South Africa
CATEGORIES:Free Get Together
ATTACH;FMTTYPE=image/jpeg:https://www.romancewriters.co.za/wp-content/uploads/2024/11/WhatsApp-Image-2024-11-15-at-14.49.51.jpeg
ORGANIZER;CN="ROSA":MAILTO:website@romancewriters.co.za
END:VEVENT
BEGIN:VEVENT
DTSTART;TZID=Africa/Johannesburg:20241116T100000
DTEND;TZID=Africa/Johannesburg:20241116T110000
DTSTAMP:20260421T033704
CREATED:20241116T075944Z
LAST-MODIFIED:20241116T075944Z
UID:2376-1731751200-1731754800@www.romancewriters.co.za
SUMMARY:Coffee Chat
DESCRIPTION:Bring your questions\, your tiara and let’s have some fun!
URL:https://www.romancewriters.co.za/events/coffee-chat/
LOCATION:Western Cape
CATEGORIES:Free Online Event
ORGANIZER;CN="ROSA":MAILTO:website@romancewriters.co.za
END:VEVENT
BEGIN:VEVENT
DTSTART;TZID=Africa/Johannesburg:20241026T103000
DTEND;TZID=Africa/Johannesburg:20241026T113000
DTSTAMP:20260421T033704
CREATED:20241008T150702Z
LAST-MODIFIED:20241008T150702Z
UID:2293-1729938600-1729942200@www.romancewriters.co.za
SUMMARY:ROSA AGM 2024
DESCRIPTION:Join us for the 2024 ROSA Annual General Meeting.
URL:https://www.romancewriters.co.za/events/rosa-agm-2024/
LOCATION:ROSACon Discord Channel
ORGANIZER;CN="ROSA":MAILTO:website@romancewriters.co.za
END:VEVENT
END:VCALENDAR