BEGIN:VCALENDAR
VERSION:2.0
PRODID:-//ROSA - ECPv6.15.20//NONSGML v1.0//EN
CALSCALE:GREGORIAN
METHOD:PUBLISH
X-ORIGINAL-URL:https://www.romancewriters.co.za
X-WR-CALDESC:Events for ROSA
REFRESH-INTERVAL;VALUE=DURATION:PT1H
X-Robots-Tag:noindex
X-PUBLISHED-TTL:PT1H
BEGIN:VTIMEZONE
TZID:Africa/Johannesburg
BEGIN:STANDARD
TZOFFSETFROM:+0200
TZOFFSETTO:+0200
TZNAME:SAST
DTSTART:20250101T000000
END:STANDARD
END:VTIMEZONE
BEGIN:VEVENT
DTSTART;TZID=Africa/Johannesburg:20260522T150000
DTEND;TZID=Africa/Johannesburg:20260524T150000
DTSTAMP:20260420T230728
CREATED:20260228T123215Z
LAST-MODIFIED:20260228T192256Z
UID:2689-1779462000-1779634800@www.romancewriters.co.za
SUMMARY:ROSA Cape Town Retreat 2026
DESCRIPTION:Fancy a weekend away from the hustle and bustle of life? Join us for one or two days of writing (and probably loads of authorish chatting) at The Lodge at Atlantic Beach\, Melkbosstrand. \nThere will be lots of writing time and one scheduled workshop on Saturday with guest speaker Jo-Anne Richards. \nGet your tickets before 1 May 2026 to benefit from the Early Bird pricing.  Reserve your seat by complete the google form. \nPartners are welcome although writing will be our priority for the two days. \nNOTE:  \n\nBreakfast is included on Sat/Sun for those who choose to stay at the lodge\, but you will be responsible for all lunches and dinners. Two restaurants are available onsite (or bring your own!)\nIt is up to you to arrange who you will be sharing a room with. If you do not arrange someone to share with\, you will need to upgrade to a single package\nPartners are welcome by “special arrangement” – please contact Marilize Roos direct to make arrangements.
URL:https://www.romancewriters.co.za/events/rosa-cape-town-retreat-2026/
LOCATION:The Lodge at Atlantic Beach\, 100 Fairway Drive\, Melkbosstrand\, Western Cape\, 7441\, South Africa
CATEGORIES:ROSA Cape Town Retreat
ATTACH;FMTTYPE=image/png:https://www.romancewriters.co.za/wp-content/uploads/2026/02/ROSA-1s-LinkedIn-Post-2.png
ORGANIZER;CN="ROSA":MAILTO:website@romancewriters.co.za
END:VEVENT
END:VCALENDAR